BEGIN:VCALENDAR
VERSION:2.0
PRODID:-//SH Upholstery - ECPv6.15.20//NONSGML v1.0//EN
CALSCALE:GREGORIAN
METHOD:PUBLISH
X-ORIGINAL-URL:https://shupholstery.co.uk
X-WR-CALDESC:Events for SH Upholstery
REFRESH-INTERVAL;VALUE=DURATION:PT1H
X-Robots-Tag:noindex
X-PUBLISHED-TTL:PT1H
BEGIN:VTIMEZONE
TZID:Europe/London
BEGIN:DAYLIGHT
TZOFFSETFROM:+0000
TZOFFSETTO:+0100
TZNAME:BST
DTSTART:20250330T010000
END:DAYLIGHT
BEGIN:STANDARD
TZOFFSETFROM:+0100
TZOFFSETTO:+0000
TZNAME:GMT
DTSTART:20251026T010000
END:STANDARD
BEGIN:DAYLIGHT
TZOFFSETFROM:+0000
TZOFFSETTO:+0100
TZNAME:BST
DTSTART:20260329T010000
END:DAYLIGHT
BEGIN:STANDARD
TZOFFSETFROM:+0100
TZOFFSETTO:+0000
TZNAME:GMT
DTSTART:20261025T010000
END:STANDARD
BEGIN:DAYLIGHT
TZOFFSETFROM:+0000
TZOFFSETTO:+0100
TZNAME:BST
DTSTART:20270328T010000
END:DAYLIGHT
BEGIN:STANDARD
TZOFFSETFROM:+0100
TZOFFSETTO:+0000
TZNAME:GMT
DTSTART:20271031T010000
END:STANDARD
END:VTIMEZONE
BEGIN:VEVENT
DTSTART;TZID=Europe/London:20261106T093000
DTEND;TZID=Europe/London:20261106T163000
DTSTAMP:20260423T113506
CREATED:20251210T112740Z
LAST-MODIFIED:20251230T200012Z
UID:10000365-1793957400-1793982600@shupholstery.co.uk
SUMMARY:Square Buttoned Upholstery Workshop
DESCRIPTION:Choose to make a square buttoned stool\, storage crate\, small or large footstool\, or two seater bench. \nDiscover the different tools and materials needed for upholstery\, along with a range of upholstery techniques which are detailed in a handout for you to take away. \nThe price includes all materials and fabric. Suitable for beginners. \nYou will learn how to: \n\nStaple elasticated webbing and hessian to the wooden frame\, glueing foam to the hessian (not applicable to crate).\nPrepare the foam for square buttoning including marking out the foam\, drilling holes\, and applying dacron.\nMeasure and mark out your fabric for square buttoning.\nSewing the square panels into your fabric.\nMake your own fabric buttons.\nPleat and finish off your piece of furniture.\nFix the feet or legs to your furniture.\n\nFurniture choices – Please select your choice when booking. \n\nBench or Stool  –choose from either metal hairpin legs or mid-century style wooden legs.\nFootstool (large or small) – for the feet choose from a natural or dark wax.\n\nFabric choice: \nSustainable fabric is included. Please detail your colour choice when booking. Free samples can be requested directly from the supplier by clicking on the link below. \n\nWarwick Amantheon Wool\n\nDimensions: \nStool – 50cm wide x 40cm deep x 49cm high \nStorage Crate – 50cm wide x 40cm deep x 38cm high \nFootstool – 50cm wide x 40cm deep x 29cm high \nBench – 90cm wide x 40cm deep x 49cm high \nLarge Footstool  – 61cm wide x 61cm deep x 29cm high \nUseful information: \n\nHot and cold drinks are included throughout the day.\nYou will need to bring your own lunch with you.
URL:https://shupholstery.co.uk/event/square-buttoned-upholstery-workshop-friday-20-november-2026/
LOCATION:Semper Hopkins\, Kent Green Chapel\, Cinderhill Lane\, Scholar Green\, Stoke-on-trent\, Cheshire\, ST7 3HR\, United Kingdom
CATEGORIES:Square Button,Workshops
ATTACH;FMTTYPE=image/jpeg:https://shupholstery.co.uk/wp-content/uploads/2022/11/square-button-MAIN.jpg
END:VEVENT
BEGIN:VEVENT
DTSTART;TZID=Europe/London:20261113T093000
DTEND;TZID=Europe/London:20261113T143000
DTSTAMP:20260423T113506
CREATED:20250701T134621Z
LAST-MODIFIED:20260204T150439Z
UID:10000341-1794562200-1794580200@shupholstery.co.uk
SUMMARY:Modern Leathercraft: Make Your Own Leather Belt
DESCRIPTION:Join our popular leather craft workshops and discover the satisfaction of creating your own beautiful\, handcrafted leather belt. \nThis session is perfect for those interested in beginner leather projects and wearable pieces you’ll actually use\, not just admire on a shelf. \nWhether you’re completely new to leatherworking or looking to try something different\, this workshop offers a welcoming environment to explore practical leathercraft in a relaxed\, supportive setting. \nLearn leatherworking techniques from skilled\, experienced instructors in small groups with a maximum of just 6–8 participants per session. \nWork with premium-quality leather and professional tools. No prior experience is needed. We welcome complete beginners and guide you at your own pace. \nAt the end of the day each participant will leave with their own handcrafted leather belt\, made to their size and style. Delve into leatherworking techniques including material selection\, measuring and cutting leather\, shaping the belt tip\, edge finishing and burnishing\, and setting buckles and fittings using traditional rivet techniques used in contemporary leather goods. \nAll workshops are held at our dedicated studio in Scholar Green\, Cheshire\, so come and enjoy a relaxing day immersed in creativity within our welcoming countryside setting. \nTea\, coffee and soft drinks provided. \nNo experience is necessary\, and all materials and tools will be supplied.
URL:https://shupholstery.co.uk/event/leather-craft-workshop-friday-13-november-2026/
LOCATION:Semper Hopkins\, Kent Green Chapel\, Cinderhill Lane\, Scholar Green\, Stoke-on-trent\, Cheshire\, ST7 3HR\, United Kingdom
CATEGORIES:Leather Craft Workshop
ATTACH;FMTTYPE=image/jpeg:https://shupholstery.co.uk/wp-content/uploads/2025/06/making-leather-belt-cheshire-workshops.jpg
END:VEVENT
BEGIN:VEVENT
DTSTART;TZID=Europe/London:20261119T180000
DTEND;TZID=Europe/London:20261119T200000
DTSTAMP:20260423T113506
CREATED:20260106T134741Z
LAST-MODIFIED:20260123T163404Z
UID:10000372-1795111200-1795118400@shupholstery.co.uk
SUMMARY:Christmas Bauble Alcohol Ink Workshop
DESCRIPTION:Create six Beautiful Marbled Baubles in a Festive Craft Experience\nEarly-Bird Price: £49 per person\, when you book by 18th July 2026 (includes all materials and refreshments)\nRegular Price: £59 per person (includes all materials and refreshments)\nNumber of Places: 16 \nAdd colour\, creativity and festive sparkle to your season with our Christmas Bauble Alcohol Ink Workshop in Cheshire. In this relaxing hands-on session\, you’ll learn how to design and decorate six luxury glass baubles using vibrant alcohol inks and shimmering metallic finishes — a perfect Christmas craft activity for beginners. \nWhether you love festive crafting\, want a mindful creative escape\, or you’re looking for a unique handmade Christmas gift idea\, this workshop offers a joyful\, easy-to-learn experience that anyone can enjoy. \nWhat You’ll Make\nEach participant creates six handcrafted glass baubles\, decorated using alcohol inks to produce beautiful marbled and flowing effects. Choose from traditional Christmas colours\, modern jewel tones\, winter pastels or bold abstract designs — every bauble is completely unique. \nWhat You’ll Learn\nYou’ll be guided step-by-step as you explore: \n\nBlending and layering alcohol inks\nCreating marbled\, textured and abstract effects\nColour pairings and festive design ideas\n\nPerfect for complete beginners or anyone looking for a creative festive workshop in Cheshire. \nWorkshop Duration\nTwo-hour workshop. Morning and afternoon sessions available throughout November and December. \nWhat’s Included\n\nSix glass baubles\nAlcohol inks\, metallics and all tools\nStep-by-step expert guidance\nTea\, coffee and soft drinks\nA warm\, festive creative environment in our chapel studio\n\nLocation\nSemper Hopkins Upholstery & Interiors\, Scholar Green\, Cheshire \n\nFree parking\nCosy creative studio\nBeautiful countryside setting
URL:https://shupholstery.co.uk/event/christmas-bauble-alcohol-ink-workshop-thursday-19-november-2026/
LOCATION:Semper Hopkins\, Kent Green Chapel\, Cinderhill Lane\, Scholar Green\, Stoke-on-trent\, Cheshire\, ST7 3HR\, United Kingdom
CATEGORIES:Christmas Bauble Alcohol Ink Workshop
ATTACH;FMTTYPE=image/jpeg:https://shupholstery.co.uk/wp-content/uploads/2026/01/Christmas-Bauble-Alcohol-Ink-Workshop-Featured-Image.jpeg
END:VEVENT
BEGIN:VEVENT
DTSTART;TZID=Europe/London:20261120T123000
DTEND;TZID=Europe/London:20261120T143000
DTSTAMP:20260423T113506
CREATED:20260106T134841Z
LAST-MODIFIED:20260123T163312Z
UID:10000373-1795177800-1795185000@shupholstery.co.uk
SUMMARY:Christmas Bauble Alcohol Ink Workshop
DESCRIPTION:Create six Beautiful Marbled Baubles in a Festive Craft Experience\nEarly-Bird Price: £49 per person\, when you book by 18th July 2026 (includes all materials and refreshments)\nRegular Price: £59 per person (includes all materials and refreshments)\nNumber of Places: 16 \nAdd colour\, creativity and festive sparkle to your season with our Christmas Bauble Alcohol Ink Workshop in Cheshire. In this relaxing hands-on session\, you’ll learn how to design and decorate six luxury glass baubles using vibrant alcohol inks and shimmering metallic finishes — a perfect Christmas craft activity for beginners. \nWhether you love festive crafting\, want a mindful creative escape\, or you’re looking for a unique handmade Christmas gift idea\, this workshop offers a joyful\, easy-to-learn experience that anyone can enjoy. \nWhat You’ll Make\nEach participant creates six handcrafted glass baubles\, decorated using alcohol inks to produce beautiful marbled and flowing effects. Choose from traditional Christmas colours\, modern jewel tones\, winter pastels or bold abstract designs — every bauble is completely unique. \nWhat You’ll Learn\nYou’ll be guided step-by-step as you explore: \n\nBlending and layering alcohol inks\nCreating marbled\, textured and abstract effects\nColour pairings and festive design ideas\n\nPerfect for complete beginners or anyone looking for a creative festive workshop in Cheshire. \nWorkshop Duration\nTwo-hour workshop. Morning and afternoon sessions available throughout November and December. \nWhat’s Included\n\nSix glass baubles\nAlcohol inks\, metallics and all tools\nStep-by-step expert guidance\nTea\, coffee and soft drinks\nA warm\, festive creative environment in our chapel studio\n\nLocation\nSemper Hopkins Upholstery & Interiors\, Scholar Green\, Cheshire \n\nFree parking\nCosy creative studio\nBeautiful countryside setting
URL:https://shupholstery.co.uk/event/christmas-bauble-alcohol-ink-workshop-friday-20-november-2026/
LOCATION:Semper Hopkins\, Kent Green Chapel\, Cinderhill Lane\, Scholar Green\, Stoke-on-trent\, Cheshire\, ST7 3HR\, United Kingdom
CATEGORIES:Christmas Bauble Alcohol Ink Workshop
ATTACH;FMTTYPE=image/jpeg:https://shupholstery.co.uk/wp-content/uploads/2026/01/Christmas-Bauble-Alcohol-Ink-Workshop-Featured-Image.jpeg
END:VEVENT
BEGIN:VEVENT
DTSTART;TZID=Europe/London:20261121T140000
DTEND;TZID=Europe/London:20261121T160000
DTSTAMP:20260423T113506
CREATED:20260106T134942Z
LAST-MODIFIED:20260123T163226Z
UID:10000374-1795269600-1795276800@shupholstery.co.uk
SUMMARY:Christmas Bauble Alcohol Ink Workshop
DESCRIPTION:Create six Beautiful Marbled Baubles in a Festive Craft Experience\nEarly-Bird Price: £49 per person\, when you book by 18th July 2026 (includes all materials and refreshments)\nRegular Price: £59 per person (includes all materials and refreshments)\nNumber of Places: 16 \nAdd colour\, creativity and festive sparkle to your season with our Christmas Bauble Alcohol Ink Workshop in Cheshire. In this relaxing hands-on session\, you’ll learn how to design and decorate six luxury glass baubles using vibrant alcohol inks and shimmering metallic finishes — a perfect Christmas craft activity for beginners. \nWhether you love festive crafting\, want a mindful creative escape\, or you’re looking for a unique handmade Christmas gift idea\, this workshop offers a joyful\, easy-to-learn experience that anyone can enjoy. \nWhat You’ll Make\nEach participant creates six handcrafted glass baubles\, decorated using alcohol inks to produce beautiful marbled and flowing effects. Choose from traditional Christmas colours\, modern jewel tones\, winter pastels or bold abstract designs — every bauble is completely unique. \nWhat You’ll Learn\nYou’ll be guided step-by-step as you explore: \n\nBlending and layering alcohol inks\nCreating marbled\, textured and abstract effects\nColour pairings and festive design ideas\n\nPerfect for complete beginners or anyone looking for a creative festive workshop in Cheshire. \nWorkshop Duration\nTwo-hour workshop. Morning and afternoon sessions available throughout November and December. \nWhat’s Included\n\nSix glass baubles\nAlcohol inks\, metallics and all tools\nStep-by-step expert guidance\nTea\, coffee and soft drinks\nA warm\, festive creative environment in our chapel studio\n\nLocation\nSemper Hopkins Upholstery & Interiors\, Scholar Green\, Cheshire \n\nFree parking\nCosy creative studio\nBeautiful countryside setting
URL:https://shupholstery.co.uk/event/christmas-bauble-alcohol-ink-workshop-saturday-21-november-2026/
LOCATION:Semper Hopkins\, Kent Green Chapel\, Cinderhill Lane\, Scholar Green\, Stoke-on-trent\, Cheshire\, ST7 3HR\, United Kingdom
CATEGORIES:Christmas Bauble Alcohol Ink Workshop
ATTACH;FMTTYPE=image/jpeg:https://shupholstery.co.uk/wp-content/uploads/2026/01/Christmas-Bauble-Alcohol-Ink-Workshop-Featured-Image.jpeg
END:VEVENT
BEGIN:VEVENT
DTSTART;TZID=Europe/London:20261126T180000
DTEND;TZID=Europe/London:20261126T210000
DTSTAMP:20260423T113506
CREATED:20251210T130252Z
LAST-MODIFIED:20251210T134900Z
UID:10000366-1795716000-1795726800@shupholstery.co.uk
SUMMARY:Christmas Wreath Making Workshop
DESCRIPTION:Join us at Semper Hopkins for a luxury Christmas wreath making workshop and afternoon tea in our beautifully decorated\, converted chapel in Scholar Green\, Cheshire.  \nCreate your own large fresh Christmas Door Wreath\, using eco-friendly materials including a variety of fresh seasonal foliage. \nPersonalise your Christmas Wreath choosing from a range of luxury festive decorations and ribbons. \nSpend an enjoyable couple of hours making your own unique creation as Emma & Ros guide you\, step by step\, through this relaxing and fun process.  \nThere will be a cosy fire roaring away and festive tunes playing to get you into the Christmas spirit\, and to make this occasion even more special\, relax and enjoy an afternoon tea style lunch/tea.  \nTea\, coffee and soft drinks provided. \nNo experience is necessary\, and all materials and tools will be supplied. \nPlease let us know if there are any dietary requirements when booking.
URL:https://shupholstery.co.uk/event/christmas-wreath-making-workshop-thursday-26-november-2026/
LOCATION:Semper Hopkins\, Kent Green Chapel\, Cinderhill Lane\, Scholar Green\, Stoke-on-trent\, Cheshire\, ST7 3HR\, United Kingdom
CATEGORIES:Christmas Wreath Making Workshop
ATTACH;FMTTYPE=image/jpeg:https://shupholstery.co.uk/wp-content/uploads/2025/06/Upholstery-Workshops-Christmas-Wreath-Making-Workshop-Event-Featured-Image.jpg
END:VEVENT
BEGIN:VEVENT
DTSTART;TZID=Europe/London:20261127T130000
DTEND;TZID=Europe/London:20261127T160000
DTSTAMP:20260423T113506
CREATED:20251210T131252Z
LAST-MODIFIED:20251210T135646Z
UID:10000367-1795784400-1795795200@shupholstery.co.uk
SUMMARY:Christmas Wreath Making Workshop
DESCRIPTION:Join us at Semper Hopkins for a luxury Christmas wreath making workshop and afternoon tea in our beautifully decorated\, converted chapel in Scholar Green\, Cheshire.  \nCreate your own large fresh Christmas Door Wreath\, using eco-friendly materials including a variety of fresh seasonal foliage. \nPersonalise your Christmas Wreath choosing from a range of luxury festive decorations and ribbons. \nSpend an enjoyable couple of hours making your own unique creation as Emma & Ros guide you\, step by step\, through this relaxing and fun process.  \nThere will be a cosy fire roaring away and festive tunes playing to get you into the Christmas spirit\, and to make this occasion even more special\, relax and enjoy an afternoon tea style lunch/tea.  \nTea\, coffee and soft drinks provided. \nNo experience is necessary\, and all materials and tools will be supplied. \nPlease let us know if there are any dietary requirements when booking.
URL:https://shupholstery.co.uk/event/christmas-wreath-making-workshop-friday-27-november-2026-afternoon/
LOCATION:Semper Hopkins\, Kent Green Chapel\, Cinderhill Lane\, Scholar Green\, Stoke-on-trent\, Cheshire\, ST7 3HR\, United Kingdom
CATEGORIES:Christmas Wreath Making Workshop
ATTACH;FMTTYPE=image/jpeg:https://shupholstery.co.uk/wp-content/uploads/2025/06/Upholstery-Workshops-Christmas-Wreath-Making-Workshop-Event-Featured-Image.jpg
END:VEVENT
BEGIN:VEVENT
DTSTART;TZID=Europe/London:20261127T180000
DTEND;TZID=Europe/London:20261127T210000
DTSTAMP:20260423T113506
CREATED:20251210T131639Z
LAST-MODIFIED:20251210T135740Z
UID:10000368-1795802400-1795813200@shupholstery.co.uk
SUMMARY:Christmas Wreath Making Workshop
DESCRIPTION:Join us at Semper Hopkins for a luxury Christmas wreath making workshop and afternoon tea in our beautifully decorated\, converted chapel in Scholar Green\, Cheshire.  \nCreate your own large fresh Christmas Door Wreath\, using eco-friendly materials including a variety of fresh seasonal foliage. \nPersonalise your Christmas Wreath choosing from a range of luxury festive decorations and ribbons. \nSpend an enjoyable couple of hours making your own unique creation as Emma & Ros guide you\, step by step\, through this relaxing and fun process.  \nThere will be a cosy fire roaring away and festive tunes playing to get you into the Christmas spirit\, and to make this occasion even more special\, relax and enjoy an afternoon tea style lunch/tea.  \nTea\, coffee and soft drinks provided. \nNo experience is necessary\, and all materials and tools will be supplied. \nPlease let us know if there are any dietary requirements when booking.
URL:https://shupholstery.co.uk/event/christmas-wreath-making-workshop-friday-27-november-2026-evening/
LOCATION:Semper Hopkins\, Kent Green Chapel\, Cinderhill Lane\, Scholar Green\, Stoke-on-trent\, Cheshire\, ST7 3HR\, United Kingdom
CATEGORIES:Christmas Wreath Making Workshop
ATTACH;FMTTYPE=image/jpeg:https://shupholstery.co.uk/wp-content/uploads/2025/06/Upholstery-Workshops-Christmas-Wreath-Making-Workshop-Event-Featured-Image.jpg
END:VEVENT
END:VCALENDAR